BEGIN:VCALENDAR
VERSION:2.0
PRODID:-//Livets Ord - ECPv6.15.20//NONSGML v1.0//EN
CALSCALE:GREGORIAN
METHOD:PUBLISH
X-WR-CALNAME:Livets Ord
X-ORIGINAL-URL:https://www.livetsord.se
X-WR-CALDESC:Händelser för Livets Ord
REFRESH-INTERVAL;VALUE=DURATION:PT1H
X-Robots-Tag:noindex
X-PUBLISHED-TTL:PT1H
BEGIN:VTIMEZONE
TZID:Europe/Stockholm
BEGIN:DAYLIGHT
TZOFFSETFROM:+0100
TZOFFSETTO:+0200
TZNAME:CEST
DTSTART:20250330T010000
END:DAYLIGHT
BEGIN:STANDARD
TZOFFSETFROM:+0200
TZOFFSETTO:+0100
TZNAME:CET
DTSTART:20251026T010000
END:STANDARD
BEGIN:DAYLIGHT
TZOFFSETFROM:+0100
TZOFFSETTO:+0200
TZNAME:CEST
DTSTART:20260329T010000
END:DAYLIGHT
BEGIN:STANDARD
TZOFFSETFROM:+0200
TZOFFSETTO:+0100
TZNAME:CET
DTSTART:20261025T010000
END:STANDARD
BEGIN:DAYLIGHT
TZOFFSETFROM:+0100
TZOFFSETTO:+0200
TZNAME:CEST
DTSTART:20270328T010000
END:DAYLIGHT
BEGIN:STANDARD
TZOFFSETFROM:+0200
TZOFFSETTO:+0100
TZNAME:CET
DTSTART:20271031T010000
END:STANDARD
END:VTIMEZONE
BEGIN:VEVENT
DTSTART;TZID=Europe/Stockholm:20260423T083000
DTEND;TZID=Europe/Stockholm:20260423T090000
DTSTAMP:20260421T174202
CREATED:20260107T090654Z
LAST-MODIFIED:20260112T092737Z
UID:29932-1776933000-1776934800@www.livetsord.se
SUMMARY:Nattvard
DESCRIPTION:Välkommen till kapellet kl. 08.30 för att fira nattvard tillsammans!
URL:https://www.livetsord.se/event/nattvard-3/2026-04-23/
LOCATION:Kapellet\, Axel Johanssons gata 3\, Uppsala\, 75450
ORGANIZER;CN="Livets Ord":MAILTO:info@livetsord.se
END:VEVENT
BEGIN:VEVENT
DTSTART;TZID=Europe/Stockholm:20260426T103000
DTEND;TZID=Europe/Stockholm:20260426T110000
DTSTAMP:20260421T174202
CREATED:20250729T092743Z
LAST-MODIFIED:20250820T102343Z
UID:27817-1777199400-1777201200@www.livetsord.se
SUMMARY:Bön
DESCRIPTION:Välkommen på bön kl. 10.30 i kapellet!Vi ber varje söndag en halvtimme innan gudstjänsten börjar.
URL:https://www.livetsord.se/event/bon-7/2026-04-26/
LOCATION:Kapellet\, Axel Johanssons gata 3\, Uppsala\, 75450
ORGANIZER;CN="Livets Ord":MAILTO:info@livetsord.se
END:VEVENT
BEGIN:VEVENT
DTSTART;TZID=Europe/Stockholm:20260426T140000
DTEND;TZID=Europe/Stockholm:20260426T160000
DTSTAMP:20260421T174202
CREATED:20260224T122718Z
LAST-MODIFIED:20260226T081317Z
UID:31755-1777212000-1777219200@www.livetsord.se
SUMMARY:Kurs: Bridges - Bygga broar för evangeliet till Muslimer
DESCRIPTION:Vi lever i en tid då människor från olika kulturer och religioner finns mitt ibland oss – en fantastisk möjlighet att dela evangeliet om Jesus Kristus. Som församling vill vi vara med och bygga broar\, skapa förståelse och nå ut med hoppet som vi själva har fått ta emot. \nMålet är att utrusta dig som troende – att ge både förståelse och konkreta redskap så att du tryggt och kärleksfullt kan bygga relationer och dela din tro. \nDatum: 8/3\, 22/3\, 29/3\, 12/4\, 26/4\, 10/5\nTid: Söndagar kl. 14:00–16:00 \nAnmälan hittar du HÄR!
URL:https://www.livetsord.se/event/kurs-bridges-bygga-broar-for-evangeliet-till-muslimer/2026-04-26/
LOCATION:Kapellet\, Axel Johanssons gata 3\, Uppsala\, 75450
ORGANIZER;CN="Livets Ord":MAILTO:info@livetsord.se
END:VEVENT
BEGIN:VEVENT
DTSTART;TZID=Europe/Stockholm:20260426T190000
DTEND;TZID=Europe/Stockholm:20260426T200000
DTSTAMP:20260421T174202
CREATED:20250729T092219Z
LAST-MODIFIED:20260205T115042Z
UID:27731-1777230000-1777233600@www.livetsord.se
SUMMARY:Bön
DESCRIPTION:Varmt välkommen på bön kl. 19.00 i kapellet!
URL:https://www.livetsord.se/event/bon-6-2025-09-21/2026-04-26/
LOCATION:Kapellet\, Axel Johanssons gata 3\, Uppsala\, 75450
ORGANIZER;CN="Livets Ord":MAILTO:info@livetsord.se
END:VEVENT
BEGIN:VEVENT
DTSTART;TZID=Europe/Stockholm:20260430T083000
DTEND;TZID=Europe/Stockholm:20260430T090000
DTSTAMP:20260421T174202
CREATED:20260107T090654Z
LAST-MODIFIED:20260112T092737Z
UID:29933-1777537800-1777539600@www.livetsord.se
SUMMARY:Nattvard
DESCRIPTION:Välkommen till kapellet kl. 08.30 för att fira nattvard tillsammans!
URL:https://www.livetsord.se/event/nattvard-3/2026-04-30/
LOCATION:Kapellet\, Axel Johanssons gata 3\, Uppsala\, 75450
ORGANIZER;CN="Livets Ord":MAILTO:info@livetsord.se
END:VEVENT
BEGIN:VEVENT
DTSTART;TZID=Europe/Stockholm:20260503T103000
DTEND;TZID=Europe/Stockholm:20260503T110000
DTSTAMP:20260421T174202
CREATED:20250729T092743Z
LAST-MODIFIED:20250820T102343Z
UID:27818-1777804200-1777806000@www.livetsord.se
SUMMARY:Bön
DESCRIPTION:Välkommen på bön kl. 10.30 i kapellet!Vi ber varje söndag en halvtimme innan gudstjänsten börjar.
URL:https://www.livetsord.se/event/bon-7/2026-05-03/
LOCATION:Kapellet\, Axel Johanssons gata 3\, Uppsala\, 75450
ORGANIZER;CN="Livets Ord":MAILTO:info@livetsord.se
END:VEVENT
BEGIN:VEVENT
DTSTART;TZID=Europe/Stockholm:20260503T110000
DTEND;TZID=Europe/Stockholm:20260503T123000
DTSTAMP:20260421T174202
CREATED:20260107T081932Z
LAST-MODIFIED:20260116T133238Z
UID:29868-1777806000-1777811400@www.livetsord.se
SUMMARY:Tonår
DESCRIPTION:Vi vill ge dig som går i sjuan\, åttan och nian de bästa förutsättningarna att växa i tro och hitta din plats i församlingen. Därför startar vi nu Tonår\, som sker varannan söndag. Där anpassas undervisningen till dig som är yngre och sker parallellt med predikan i den vanliga gudstjänsten. \nNär lovsången är klar och predikan i den vanliga gudstjänsten startar\, så kan du som går i högstadiet gå ut till Kapellet. Där väntar ledare som tar hand om dig\, och delar ordet.
URL:https://www.livetsord.se/event/tonar/2026-05-03/
LOCATION:Kapellet\, Axel Johanssons gata 3\, Uppsala\, 75450
ORGANIZER;CN="Livets Ord":MAILTO:info@livetsord.se
END:VEVENT
BEGIN:VEVENT
DTSTART;TZID=Europe/Stockholm:20260505T140000
DTEND;TZID=Europe/Stockholm:20260505T160000
DTSTAMP:20260421T174202
CREATED:20260107T082742Z
LAST-MODIFIED:20260107T085637Z
UID:29882-1777989600-1777996800@www.livetsord.se
SUMMARY:Dagträff | "Israel - konflikten & freden"
DESCRIPTION:Välkommen på Dagträff kl. 14:00 i Kapellet! Dagträffen är för alla dagliglediga\, pensionärer och andra som vill komma för gemenskap med varandra. Vi träffas varannan tisdag (ojämna veckor) kl 14.00 i kapellet för att lyssna till olika talare. Kl 15.00 blir det sen fika och gemenskap i Orangeriet\, välkommen! Denna vecka medverkar Ruben Agnarsson samt Calle & Ingrid Lilja. 
URL:https://www.livetsord.se/event/dagtraff-vad-hander-i-fangelserna-haktena-2026-05-05/
LOCATION:Kapellet\, Axel Johanssons gata 3\, Uppsala\, 75450
ORGANIZER;CN="Livets Ord":MAILTO:info@livetsord.se
END:VEVENT
BEGIN:VEVENT
DTSTART;TZID=Europe/Stockholm:20260507T083000
DTEND;TZID=Europe/Stockholm:20260507T090000
DTSTAMP:20260421T174202
CREATED:20260107T090654Z
LAST-MODIFIED:20260112T092737Z
UID:29934-1778142600-1778144400@www.livetsord.se
SUMMARY:Nattvard
DESCRIPTION:Välkommen till kapellet kl. 08.30 för att fira nattvard tillsammans!
URL:https://www.livetsord.se/event/nattvard-3/2026-05-07/
LOCATION:Kapellet\, Axel Johanssons gata 3\, Uppsala\, 75450
ORGANIZER;CN="Livets Ord":MAILTO:info@livetsord.se
END:VEVENT
BEGIN:VEVENT
DTSTART;TZID=Europe/Stockholm:20260510T103000
DTEND;TZID=Europe/Stockholm:20260510T110000
DTSTAMP:20260421T174202
CREATED:20250729T092743Z
LAST-MODIFIED:20250820T102343Z
UID:27819-1778409000-1778410800@www.livetsord.se
SUMMARY:Bön
DESCRIPTION:Välkommen på bön kl. 10.30 i kapellet!Vi ber varje söndag en halvtimme innan gudstjänsten börjar.
URL:https://www.livetsord.se/event/bon-7/2026-05-10/
LOCATION:Kapellet\, Axel Johanssons gata 3\, Uppsala\, 75450
ORGANIZER;CN="Livets Ord":MAILTO:info@livetsord.se
END:VEVENT
BEGIN:VEVENT
DTSTART;TZID=Europe/Stockholm:20260510T140000
DTEND;TZID=Europe/Stockholm:20260510T160000
DTSTAMP:20260421T174202
CREATED:20260224T122718Z
LAST-MODIFIED:20260226T081317Z
UID:31756-1778421600-1778428800@www.livetsord.se
SUMMARY:Kurs: Bridges - Bygga broar för evangeliet till Muslimer
DESCRIPTION:Vi lever i en tid då människor från olika kulturer och religioner finns mitt ibland oss – en fantastisk möjlighet att dela evangeliet om Jesus Kristus. Som församling vill vi vara med och bygga broar\, skapa förståelse och nå ut med hoppet som vi själva har fått ta emot. \nMålet är att utrusta dig som troende – att ge både förståelse och konkreta redskap så att du tryggt och kärleksfullt kan bygga relationer och dela din tro. \nDatum: 8/3\, 22/3\, 29/3\, 12/4\, 26/4\, 10/5\nTid: Söndagar kl. 14:00–16:00 \nAnmälan hittar du HÄR!
URL:https://www.livetsord.se/event/kurs-bridges-bygga-broar-for-evangeliet-till-muslimer/2026-05-10/
LOCATION:Kapellet\, Axel Johanssons gata 3\, Uppsala\, 75450
ORGANIZER;CN="Livets Ord":MAILTO:info@livetsord.se
END:VEVENT
BEGIN:VEVENT
DTSTART;TZID=Europe/Stockholm:20260510T190000
DTEND;TZID=Europe/Stockholm:20260510T200000
DTSTAMP:20260421T174202
CREATED:20250729T092219Z
LAST-MODIFIED:20260205T115042Z
UID:27733-1778439600-1778443200@www.livetsord.se
SUMMARY:Bön
DESCRIPTION:Varmt välkommen på bön kl. 19.00 i kapellet!
URL:https://www.livetsord.se/event/bon-6-2025-09-21/2026-05-10/
LOCATION:Kapellet\, Axel Johanssons gata 3\, Uppsala\, 75450
ORGANIZER;CN="Livets Ord":MAILTO:info@livetsord.se
END:VEVENT
BEGIN:VEVENT
DTSTART;TZID=Europe/Stockholm:20260517T103000
DTEND;TZID=Europe/Stockholm:20260517T110000
DTSTAMP:20260421T174202
CREATED:20250729T092743Z
LAST-MODIFIED:20250820T102343Z
UID:27820-1779013800-1779015600@www.livetsord.se
SUMMARY:Bön
DESCRIPTION:Välkommen på bön kl. 10.30 i kapellet!Vi ber varje söndag en halvtimme innan gudstjänsten börjar.
URL:https://www.livetsord.se/event/bon-7/2026-05-17/
LOCATION:Kapellet\, Axel Johanssons gata 3\, Uppsala\, 75450
ORGANIZER;CN="Livets Ord":MAILTO:info@livetsord.se
END:VEVENT
BEGIN:VEVENT
DTSTART;TZID=Europe/Stockholm:20260517T110000
DTEND;TZID=Europe/Stockholm:20260517T123000
DTSTAMP:20260421T174202
CREATED:20260107T081932Z
LAST-MODIFIED:20260116T133238Z
UID:29869-1779015600-1779021000@www.livetsord.se
SUMMARY:Tonår
DESCRIPTION:Vi vill ge dig som går i sjuan\, åttan och nian de bästa förutsättningarna att växa i tro och hitta din plats i församlingen. Därför startar vi nu Tonår\, som sker varannan söndag. Där anpassas undervisningen till dig som är yngre och sker parallellt med predikan i den vanliga gudstjänsten. \nNär lovsången är klar och predikan i den vanliga gudstjänsten startar\, så kan du som går i högstadiet gå ut till Kapellet. Där väntar ledare som tar hand om dig\, och delar ordet.
URL:https://www.livetsord.se/event/tonar/2026-05-17/
LOCATION:Kapellet\, Axel Johanssons gata 3\, Uppsala\, 75450
ORGANIZER;CN="Livets Ord":MAILTO:info@livetsord.se
END:VEVENT
BEGIN:VEVENT
DTSTART;TZID=Europe/Stockholm:20260517T190000
DTEND;TZID=Europe/Stockholm:20260517T200000
DTSTAMP:20260421T174202
CREATED:20250729T092219Z
LAST-MODIFIED:20260205T115043Z
UID:27734-1779044400-1779048000@www.livetsord.se
SUMMARY:Bön
DESCRIPTION:Varmt välkommen på bön kl. 19.00 i kapellet!
URL:https://www.livetsord.se/event/bon-6-2025-09-21/2026-05-17/
LOCATION:Kapellet\, Axel Johanssons gata 3\, Uppsala\, 75450
ORGANIZER;CN="Livets Ord":MAILTO:info@livetsord.se
END:VEVENT
BEGIN:VEVENT
DTSTART;TZID=Europe/Stockholm:20260519T140000
DTEND;TZID=Europe/Stockholm:20260519T160000
DTSTAMP:20260421T174202
CREATED:20260107T082742Z
LAST-MODIFIED:20260107T085856Z
UID:29883-1779199200-1779206400@www.livetsord.se
SUMMARY:Dagträff | "Om det än genom lidande bär"
DESCRIPTION:Välkommen på Dagträff kl. 14:00 i Kapellet! Dagträffen är för alla dagliglediga\, pensionärer och andra som vill komma för gemenskap med varandra. Vi träffas varannan tisdag (ojämna veckor) kl 14.00 i kapellet för att lyssna till olika talare. Kl 15.00 blir det sen fika och gemenskap i Orangeriet\, välkommen! Denna vecka talar Linda Ekerbring för oss utifrån ”Om det än genom lidande bär”.
URL:https://www.livetsord.se/event/dagtraff-vad-hander-i-fangelserna-haktena-2026-05-19/
LOCATION:Kapellet\, Axel Johanssons gata 3\, Uppsala\, 75450
ORGANIZER;CN="Livets Ord":MAILTO:info@livetsord.se
END:VEVENT
BEGIN:VEVENT
DTSTART;TZID=Europe/Stockholm:20260520T190000
DTEND;TZID=Europe/Stockholm:20260520T203000
DTSTAMP:20260421T174202
CREATED:20260116T130436Z
LAST-MODIFIED:20260225T103334Z
UID:31627-1779303600-1779309000@www.livetsord.se
SUMMARY:Bön
DESCRIPTION:Varmt välkommen till bön i kapellet kl. 19.00! Vi samlas varannan onsdag (ojämna veckor) för en stund av stillhet\, gemenskap och bön. Kom som du är – vi ser fram emot att be tillsammans med dig!
URL:https://www.livetsord.se/event/bon-9/2026-05-20/
LOCATION:Kapellet\, Axel Johanssons gata 3\, Uppsala\, 75450
ORGANIZER;CN="Livets Ord":MAILTO:info@livetsord.se
END:VEVENT
BEGIN:VEVENT
DTSTART;TZID=Europe/Stockholm:20260521T083000
DTEND;TZID=Europe/Stockholm:20260521T090000
DTSTAMP:20260421T174202
CREATED:20260107T090654Z
LAST-MODIFIED:20260112T092738Z
UID:29936-1779352200-1779354000@www.livetsord.se
SUMMARY:Nattvard
DESCRIPTION:Välkommen till kapellet kl. 08.30 för att fira nattvard tillsammans!
URL:https://www.livetsord.se/event/nattvard-3/2026-05-21/
LOCATION:Kapellet\, Axel Johanssons gata 3\, Uppsala\, 75450
ORGANIZER;CN="Livets Ord":MAILTO:info@livetsord.se
END:VEVENT
BEGIN:VEVENT
DTSTART;TZID=Europe/Stockholm:20260524T103000
DTEND;TZID=Europe/Stockholm:20260524T110000
DTSTAMP:20260421T174203
CREATED:20250729T092743Z
LAST-MODIFIED:20250820T102343Z
UID:27821-1779618600-1779620400@www.livetsord.se
SUMMARY:Bön
DESCRIPTION:Välkommen på bön kl. 10.30 i kapellet!Vi ber varje söndag en halvtimme innan gudstjänsten börjar.
URL:https://www.livetsord.se/event/bon-7/2026-05-24/
LOCATION:Kapellet\, Axel Johanssons gata 3\, Uppsala\, 75450
ORGANIZER;CN="Livets Ord":MAILTO:info@livetsord.se
END:VEVENT
BEGIN:VEVENT
DTSTART;TZID=Europe/Stockholm:20260524T190000
DTEND;TZID=Europe/Stockholm:20260524T200000
DTSTAMP:20260421T174203
CREATED:20250729T092219Z
LAST-MODIFIED:20260205T115043Z
UID:27735-1779649200-1779652800@www.livetsord.se
SUMMARY:Bön
DESCRIPTION:Varmt välkommen på bön kl. 19.00 i kapellet!
URL:https://www.livetsord.se/event/bon-6-2025-09-21/2026-05-24/
LOCATION:Kapellet\, Axel Johanssons gata 3\, Uppsala\, 75450
ORGANIZER;CN="Livets Ord":MAILTO:info@livetsord.se
END:VEVENT
BEGIN:VEVENT
DTSTART;TZID=Europe/Stockholm:20260528T083000
DTEND;TZID=Europe/Stockholm:20260528T090000
DTSTAMP:20260421T174203
CREATED:20260107T090654Z
LAST-MODIFIED:20260112T092738Z
UID:29937-1779957000-1779958800@www.livetsord.se
SUMMARY:Nattvard
DESCRIPTION:Välkommen till kapellet kl. 08.30 för att fira nattvard tillsammans!
URL:https://www.livetsord.se/event/nattvard-3/2026-05-28/
LOCATION:Kapellet\, Axel Johanssons gata 3\, Uppsala\, 75450
ORGANIZER;CN="Livets Ord":MAILTO:info@livetsord.se
END:VEVENT
BEGIN:VEVENT
DTSTART;TZID=Europe/Stockholm:20260531T103000
DTEND;TZID=Europe/Stockholm:20260531T110000
DTSTAMP:20260421T174203
CREATED:20250729T092743Z
LAST-MODIFIED:20250820T102343Z
UID:27822-1780223400-1780225200@www.livetsord.se
SUMMARY:Bön
DESCRIPTION:Välkommen på bön kl. 10.30 i kapellet!Vi ber varje söndag en halvtimme innan gudstjänsten börjar.
URL:https://www.livetsord.se/event/bon-7/2026-05-31/
LOCATION:Kapellet\, Axel Johanssons gata 3\, Uppsala\, 75450
ORGANIZER;CN="Livets Ord":MAILTO:info@livetsord.se
END:VEVENT
BEGIN:VEVENT
DTSTART;TZID=Europe/Stockholm:20260531T110000
DTEND;TZID=Europe/Stockholm:20260531T123000
DTSTAMP:20260421T174203
CREATED:20260107T081932Z
LAST-MODIFIED:20260116T133238Z
UID:29870-1780225200-1780230600@www.livetsord.se
SUMMARY:Tonår
DESCRIPTION:Vi vill ge dig som går i sjuan\, åttan och nian de bästa förutsättningarna att växa i tro och hitta din plats i församlingen. Därför startar vi nu Tonår\, som sker varannan söndag. Där anpassas undervisningen till dig som är yngre och sker parallellt med predikan i den vanliga gudstjänsten. \nNär lovsången är klar och predikan i den vanliga gudstjänsten startar\, så kan du som går i högstadiet gå ut till Kapellet. Där väntar ledare som tar hand om dig\, och delar ordet.
URL:https://www.livetsord.se/event/tonar/2026-05-31/
LOCATION:Kapellet\, Axel Johanssons gata 3\, Uppsala\, 75450
ORGANIZER;CN="Livets Ord":MAILTO:info@livetsord.se
END:VEVENT
BEGIN:VEVENT
DTSTART;TZID=Europe/Stockholm:20260531T190000
DTEND;TZID=Europe/Stockholm:20260531T200000
DTSTAMP:20260421T174203
CREATED:20250729T092219Z
LAST-MODIFIED:20260205T115045Z
UID:27736-1780254000-1780257600@www.livetsord.se
SUMMARY:Bön
DESCRIPTION:Varmt välkommen på bön kl. 19.00 i kapellet!
URL:https://www.livetsord.se/event/bon-6-2025-09-21/2026-05-31/
LOCATION:Kapellet\, Axel Johanssons gata 3\, Uppsala\, 75450
ORGANIZER;CN="Livets Ord":MAILTO:info@livetsord.se
END:VEVENT
BEGIN:VEVENT
DTSTART;TZID=Europe/Stockholm:20260602T000000
DTEND;TZID=Europe/Stockholm:20260602T000000
DTSTAMP:20260421T174203
CREATED:20260107T082742Z
LAST-MODIFIED:20260107T090248Z
UID:29884-1780358400-1780358400@www.livetsord.se
SUMMARY:Vårens seniorutflykt
DESCRIPTION:Denna vecka är Seniorernas vårutflykt.
URL:https://www.livetsord.se/event/dagtraff-vad-hander-i-fangelserna-haktena-2026-06-02/
LOCATION:Kapellet\, Axel Johanssons gata 3\, Uppsala\, 75450
ORGANIZER;CN="Livets Ord":MAILTO:info@livetsord.se
END:VEVENT
BEGIN:VEVENT
DTSTART;TZID=Europe/Stockholm:20260603T190000
DTEND;TZID=Europe/Stockholm:20260603T203000
DTSTAMP:20260421T174203
CREATED:20260116T130436Z
LAST-MODIFIED:20260225T103334Z
UID:31628-1780513200-1780518600@www.livetsord.se
SUMMARY:Bön
DESCRIPTION:Varmt välkommen till bön i kapellet kl. 19.00! Vi samlas varannan onsdag (ojämna veckor) för en stund av stillhet\, gemenskap och bön. Kom som du är – vi ser fram emot att be tillsammans med dig!
URL:https://www.livetsord.se/event/bon-9/2026-06-03/
LOCATION:Kapellet\, Axel Johanssons gata 3\, Uppsala\, 75450
ORGANIZER;CN="Livets Ord":MAILTO:info@livetsord.se
END:VEVENT
BEGIN:VEVENT
DTSTART;TZID=Europe/Stockholm:20260607T103000
DTEND;TZID=Europe/Stockholm:20260607T110000
DTSTAMP:20260421T174203
CREATED:20250729T092743Z
LAST-MODIFIED:20250820T102346Z
UID:27823-1780828200-1780830000@www.livetsord.se
SUMMARY:Bön
DESCRIPTION:Välkommen på bön kl. 10.30 i kapellet!Vi ber varje söndag en halvtimme innan gudstjänsten börjar.
URL:https://www.livetsord.se/event/bon-7/2026-06-07/
LOCATION:Kapellet\, Axel Johanssons gata 3\, Uppsala\, 75450
ORGANIZER;CN="Livets Ord":MAILTO:info@livetsord.se
END:VEVENT
BEGIN:VEVENT
DTSTART;TZID=Europe/Stockholm:20260607T190000
DTEND;TZID=Europe/Stockholm:20260607T200000
DTSTAMP:20260421T174203
CREATED:20250729T092219Z
LAST-MODIFIED:20260205T115045Z
UID:27737-1780858800-1780862400@www.livetsord.se
SUMMARY:Bön
DESCRIPTION:Varmt välkommen på bön kl. 19.00 i kapellet!
URL:https://www.livetsord.se/event/bon-6-2025-09-21/2026-06-07/
LOCATION:Kapellet\, Axel Johanssons gata 3\, Uppsala\, 75450
ORGANIZER;CN="Livets Ord":MAILTO:info@livetsord.se
END:VEVENT
BEGIN:VEVENT
DTSTART;TZID=Europe/Stockholm:20260617T190000
DTEND;TZID=Europe/Stockholm:20260617T203000
DTSTAMP:20260421T174203
CREATED:20260116T130436Z
LAST-MODIFIED:20260225T103335Z
UID:31629-1781722800-1781728200@www.livetsord.se
SUMMARY:Bön
DESCRIPTION:Varmt välkommen till bön i kapellet kl. 19.00! Vi samlas varannan onsdag (ojämna veckor) för en stund av stillhet\, gemenskap och bön. Kom som du är – vi ser fram emot att be tillsammans med dig!
URL:https://www.livetsord.se/event/bon-9/2026-06-17/
LOCATION:Kapellet\, Axel Johanssons gata 3\, Uppsala\, 75450
ORGANIZER;CN="Livets Ord":MAILTO:info@livetsord.se
END:VEVENT
END:VCALENDAR