BEGIN:VCALENDAR
VERSION:2.0
PRODID:-//Livets Ord - ECPv6.15.20//NONSGML v1.0//EN
CALSCALE:GREGORIAN
METHOD:PUBLISH
X-WR-CALNAME:Livets Ord
X-ORIGINAL-URL:https://www.livetsord.se
X-WR-CALDESC:Händelser för Livets Ord
REFRESH-INTERVAL;VALUE=DURATION:PT1H
X-Robots-Tag:noindex
X-PUBLISHED-TTL:PT1H
BEGIN:VTIMEZONE
TZID:Europe/Stockholm
BEGIN:DAYLIGHT
TZOFFSETFROM:+0100
TZOFFSETTO:+0200
TZNAME:CEST
DTSTART:20250330T010000
END:DAYLIGHT
BEGIN:STANDARD
TZOFFSETFROM:+0200
TZOFFSETTO:+0100
TZNAME:CET
DTSTART:20251026T010000
END:STANDARD
BEGIN:DAYLIGHT
TZOFFSETFROM:+0100
TZOFFSETTO:+0200
TZNAME:CEST
DTSTART:20260329T010000
END:DAYLIGHT
BEGIN:STANDARD
TZOFFSETFROM:+0200
TZOFFSETTO:+0100
TZNAME:CET
DTSTART:20261025T010000
END:STANDARD
BEGIN:DAYLIGHT
TZOFFSETFROM:+0100
TZOFFSETTO:+0200
TZNAME:CEST
DTSTART:20270328T010000
END:DAYLIGHT
BEGIN:STANDARD
TZOFFSETFROM:+0200
TZOFFSETTO:+0100
TZNAME:CET
DTSTART:20271031T010000
END:STANDARD
END:VTIMEZONE
BEGIN:VEVENT
DTSTART;TZID=Europe/Stockholm:20260428T063000
DTEND;TZID=Europe/Stockholm:20260428T074500
DTSTAMP:20260422T004129
CREATED:20260126T082727Z
LAST-MODIFIED:20260126T082727Z
UID:31490-1777357800-1777362300@www.livetsord.se
SUMMARY:Företagarbön
DESCRIPTION:Varannan tisdag (jämna veckor) kl. 06.30-07.45 i konferensrum Skeppet är du som företagare varmt välkommen på bön!
URL:https://www.livetsord.se/event/foretagarbon-4/2026-04-28/
LOCATION:Konferensrum Skeppet\, Axel Johanssons gata 3\, Uppsala\, 75449
ORGANIZER;CN="Livets Ord":MAILTO:info@livetsord.se
END:VEVENT
BEGIN:VEVENT
DTSTART;TZID=Europe/Stockholm:20260505T130000
DTEND;TZID=Europe/Stockholm:20260505T140000
DTSTAMP:20260422T004129
CREATED:20260116T122124Z
LAST-MODIFIED:20260116T123034Z
UID:30531-1777986000-1777989600@www.livetsord.se
SUMMARY:Bön för Israel
DESCRIPTION:Israel är ständigt på Guds hjärta\, och som församling och kristna har vi ett ansvar att be för Israel och önska Jerusalem frid.\nVarmt välkommen att göra det tillsammans med oss! \nIsraelbönen hålls i  konferensrum Skeppet kl. 13.00. \n”…varken dag eller natt får de någonsin tystna. Ni som ropar till Herren\, unna er ingen ro\, och ge honom ingen ro förrän han upprättar Jerusalem och gör det till en lovsång på jorden.”\nJesaja 62:6–7
URL:https://www.livetsord.se/event/bon-for-israel-3/2026-05-05/
LOCATION:Konferensrum Skeppet\, Axel Johanssons gata 3\, Uppsala\, 75449
ORGANIZER;CN="Livets Ord":MAILTO:info@livetsord.se
END:VEVENT
BEGIN:VEVENT
DTSTART;TZID=Europe/Stockholm:20260512T063000
DTEND;TZID=Europe/Stockholm:20260512T074500
DTSTAMP:20260422T004129
CREATED:20260126T082727Z
LAST-MODIFIED:20260126T082727Z
UID:31491-1778567400-1778571900@www.livetsord.se
SUMMARY:Företagarbön
DESCRIPTION:Varannan tisdag (jämna veckor) kl. 06.30-07.45 i konferensrum Skeppet är du som företagare varmt välkommen på bön!
URL:https://www.livetsord.se/event/foretagarbon-4/2026-05-12/
LOCATION:Konferensrum Skeppet\, Axel Johanssons gata 3\, Uppsala\, 75449
ORGANIZER;CN="Livets Ord":MAILTO:info@livetsord.se
END:VEVENT
BEGIN:VEVENT
DTSTART;TZID=Europe/Stockholm:20260519T130000
DTEND;TZID=Europe/Stockholm:20260519T140000
DTSTAMP:20260422T004129
CREATED:20260116T122124Z
LAST-MODIFIED:20260116T123034Z
UID:30532-1779195600-1779199200@www.livetsord.se
SUMMARY:Bön för Israel
DESCRIPTION:Israel är ständigt på Guds hjärta\, och som församling och kristna har vi ett ansvar att be för Israel och önska Jerusalem frid.\nVarmt välkommen att göra det tillsammans med oss! \nIsraelbönen hålls i  konferensrum Skeppet kl. 13.00. \n”…varken dag eller natt får de någonsin tystna. Ni som ropar till Herren\, unna er ingen ro\, och ge honom ingen ro förrän han upprättar Jerusalem och gör det till en lovsång på jorden.”\nJesaja 62:6–7
URL:https://www.livetsord.se/event/bon-for-israel-3/2026-05-19/
LOCATION:Konferensrum Skeppet\, Axel Johanssons gata 3\, Uppsala\, 75449
ORGANIZER;CN="Livets Ord":MAILTO:info@livetsord.se
END:VEVENT
BEGIN:VEVENT
DTSTART;TZID=Europe/Stockholm:20260526T063000
DTEND;TZID=Europe/Stockholm:20260526T074500
DTSTAMP:20260422T004129
CREATED:20260126T082727Z
LAST-MODIFIED:20260126T082727Z
UID:31492-1779777000-1779781500@www.livetsord.se
SUMMARY:Företagarbön
DESCRIPTION:Varannan tisdag (jämna veckor) kl. 06.30-07.45 i konferensrum Skeppet är du som företagare varmt välkommen på bön!
URL:https://www.livetsord.se/event/foretagarbon-4/2026-05-26/
LOCATION:Konferensrum Skeppet\, Axel Johanssons gata 3\, Uppsala\, 75449
ORGANIZER;CN="Livets Ord":MAILTO:info@livetsord.se
END:VEVENT
BEGIN:VEVENT
DTSTART;TZID=Europe/Stockholm:20260609T063000
DTEND;TZID=Europe/Stockholm:20260609T074500
DTSTAMP:20260422T004129
CREATED:20260126T082727Z
LAST-MODIFIED:20260126T082727Z
UID:31493-1780986600-1780991100@www.livetsord.se
SUMMARY:Företagarbön
DESCRIPTION:Varannan tisdag (jämna veckor) kl. 06.30-07.45 i konferensrum Skeppet är du som företagare varmt välkommen på bön!
URL:https://www.livetsord.se/event/foretagarbon-4/2026-06-09/
LOCATION:Konferensrum Skeppet\, Axel Johanssons gata 3\, Uppsala\, 75449
ORGANIZER;CN="Livets Ord":MAILTO:info@livetsord.se
END:VEVENT
BEGIN:VEVENT
DTSTART;TZID=Europe/Stockholm:20260623T063000
DTEND;TZID=Europe/Stockholm:20260623T074500
DTSTAMP:20260422T004129
CREATED:20260126T082727Z
LAST-MODIFIED:20260126T082727Z
UID:31495-1782196200-1782200700@www.livetsord.se
SUMMARY:Företagarbön
DESCRIPTION:Varannan tisdag (jämna veckor) kl. 06.30-07.45 i konferensrum Skeppet är du som företagare varmt välkommen på bön!
URL:https://www.livetsord.se/event/foretagarbon-4/2026-06-23/
LOCATION:Konferensrum Skeppet\, Axel Johanssons gata 3\, Uppsala\, 75449
ORGANIZER;CN="Livets Ord":MAILTO:info@livetsord.se
END:VEVENT
BEGIN:VEVENT
DTSTART;TZID=Europe/Stockholm:20260804T063000
DTEND;TZID=Europe/Stockholm:20260804T074500
DTSTAMP:20260422T004129
CREATED:20260126T082727Z
LAST-MODIFIED:20260126T082727Z
UID:31496-1785825000-1785829500@www.livetsord.se
SUMMARY:Företagarbön
DESCRIPTION:Varannan tisdag (jämna veckor) kl. 06.30-07.45 i konferensrum Skeppet är du som företagare varmt välkommen på bön!
URL:https://www.livetsord.se/event/foretagarbon-4/2026-08-04/
LOCATION:Konferensrum Skeppet\, Axel Johanssons gata 3\, Uppsala\, 75449
ORGANIZER;CN="Livets Ord":MAILTO:info@livetsord.se
END:VEVENT
BEGIN:VEVENT
DTSTART;TZID=Europe/Stockholm:20260818T063000
DTEND;TZID=Europe/Stockholm:20260818T074500
DTSTAMP:20260422T004129
CREATED:20260126T082727Z
LAST-MODIFIED:20260126T082727Z
UID:31497-1787034600-1787039100@www.livetsord.se
SUMMARY:Företagarbön
DESCRIPTION:Varannan tisdag (jämna veckor) kl. 06.30-07.45 i konferensrum Skeppet är du som företagare varmt välkommen på bön!
URL:https://www.livetsord.se/event/foretagarbon-4/2026-08-18/
LOCATION:Konferensrum Skeppet\, Axel Johanssons gata 3\, Uppsala\, 75449
ORGANIZER;CN="Livets Ord":MAILTO:info@livetsord.se
END:VEVENT
BEGIN:VEVENT
DTSTART;TZID=Europe/Stockholm:20260901T063000
DTEND;TZID=Europe/Stockholm:20260901T074500
DTSTAMP:20260422T004129
CREATED:20260126T082727Z
LAST-MODIFIED:20260126T082727Z
UID:31498-1788244200-1788248700@www.livetsord.se
SUMMARY:Företagarbön
DESCRIPTION:Varannan tisdag (jämna veckor) kl. 06.30-07.45 i konferensrum Skeppet är du som företagare varmt välkommen på bön!
URL:https://www.livetsord.se/event/foretagarbon-4/2026-09-01/
LOCATION:Konferensrum Skeppet\, Axel Johanssons gata 3\, Uppsala\, 75449
ORGANIZER;CN="Livets Ord":MAILTO:info@livetsord.se
END:VEVENT
BEGIN:VEVENT
DTSTART;TZID=Europe/Stockholm:20260915T063000
DTEND;TZID=Europe/Stockholm:20260915T074500
DTSTAMP:20260422T004129
CREATED:20260126T082727Z
LAST-MODIFIED:20260126T082727Z
UID:31499-1789453800-1789458300@www.livetsord.se
SUMMARY:Företagarbön
DESCRIPTION:Varannan tisdag (jämna veckor) kl. 06.30-07.45 i konferensrum Skeppet är du som företagare varmt välkommen på bön!
URL:https://www.livetsord.se/event/foretagarbon-4/2026-09-15/
LOCATION:Konferensrum Skeppet\, Axel Johanssons gata 3\, Uppsala\, 75449
ORGANIZER;CN="Livets Ord":MAILTO:info@livetsord.se
END:VEVENT
BEGIN:VEVENT
DTSTART;TZID=Europe/Stockholm:20260929T063000
DTEND;TZID=Europe/Stockholm:20260929T074500
DTSTAMP:20260422T004129
CREATED:20260126T082727Z
LAST-MODIFIED:20260126T082727Z
UID:31500-1790663400-1790667900@www.livetsord.se
SUMMARY:Företagarbön
DESCRIPTION:Varannan tisdag (jämna veckor) kl. 06.30-07.45 i konferensrum Skeppet är du som företagare varmt välkommen på bön!
URL:https://www.livetsord.se/event/foretagarbon-4/2026-09-29/
LOCATION:Konferensrum Skeppet\, Axel Johanssons gata 3\, Uppsala\, 75449
ORGANIZER;CN="Livets Ord":MAILTO:info@livetsord.se
END:VEVENT
BEGIN:VEVENT
DTSTART;TZID=Europe/Stockholm:20261013T063000
DTEND;TZID=Europe/Stockholm:20261013T074500
DTSTAMP:20260422T004129
CREATED:20260126T082727Z
LAST-MODIFIED:20260126T082727Z
UID:31501-1791873000-1791877500@www.livetsord.se
SUMMARY:Företagarbön
DESCRIPTION:Varannan tisdag (jämna veckor) kl. 06.30-07.45 i konferensrum Skeppet är du som företagare varmt välkommen på bön!
URL:https://www.livetsord.se/event/foretagarbon-4/2026-10-13/
LOCATION:Konferensrum Skeppet\, Axel Johanssons gata 3\, Uppsala\, 75449
ORGANIZER;CN="Livets Ord":MAILTO:info@livetsord.se
END:VEVENT
BEGIN:VEVENT
DTSTART;TZID=Europe/Stockholm:20261027T063000
DTEND;TZID=Europe/Stockholm:20261027T074500
DTSTAMP:20260422T004129
CREATED:20260126T082727Z
LAST-MODIFIED:20260126T082727Z
UID:31502-1793082600-1793087100@www.livetsord.se
SUMMARY:Företagarbön
DESCRIPTION:Varannan tisdag (jämna veckor) kl. 06.30-07.45 i konferensrum Skeppet är du som företagare varmt välkommen på bön!
URL:https://www.livetsord.se/event/foretagarbon-4/2026-10-27/
LOCATION:Konferensrum Skeppet\, Axel Johanssons gata 3\, Uppsala\, 75449
ORGANIZER;CN="Livets Ord":MAILTO:info@livetsord.se
END:VEVENT
BEGIN:VEVENT
DTSTART;TZID=Europe/Stockholm:20261110T063000
DTEND;TZID=Europe/Stockholm:20261110T074500
DTSTAMP:20260422T004129
CREATED:20260126T082727Z
LAST-MODIFIED:20260126T082727Z
UID:31503-1794292200-1794296700@www.livetsord.se
SUMMARY:Företagarbön
DESCRIPTION:Varannan tisdag (jämna veckor) kl. 06.30-07.45 i konferensrum Skeppet är du som företagare varmt välkommen på bön!
URL:https://www.livetsord.se/event/foretagarbon-4/2026-11-10/
LOCATION:Konferensrum Skeppet\, Axel Johanssons gata 3\, Uppsala\, 75449
ORGANIZER;CN="Livets Ord":MAILTO:info@livetsord.se
END:VEVENT
BEGIN:VEVENT
DTSTART;TZID=Europe/Stockholm:20261124T063000
DTEND;TZID=Europe/Stockholm:20261124T074500
DTSTAMP:20260422T004129
CREATED:20260126T082727Z
LAST-MODIFIED:20260126T082727Z
UID:31504-1795501800-1795506300@www.livetsord.se
SUMMARY:Företagarbön
DESCRIPTION:Varannan tisdag (jämna veckor) kl. 06.30-07.45 i konferensrum Skeppet är du som företagare varmt välkommen på bön!
URL:https://www.livetsord.se/event/foretagarbon-4/2026-11-24/
LOCATION:Konferensrum Skeppet\, Axel Johanssons gata 3\, Uppsala\, 75449
ORGANIZER;CN="Livets Ord":MAILTO:info@livetsord.se
END:VEVENT
BEGIN:VEVENT
DTSTART;TZID=Europe/Stockholm:20261208T063000
DTEND;TZID=Europe/Stockholm:20261208T074500
DTSTAMP:20260422T004129
CREATED:20260126T082727Z
LAST-MODIFIED:20260126T082727Z
UID:31505-1796711400-1796715900@www.livetsord.se
SUMMARY:Företagarbön
DESCRIPTION:Varannan tisdag (jämna veckor) kl. 06.30-07.45 i konferensrum Skeppet är du som företagare varmt välkommen på bön!
URL:https://www.livetsord.se/event/foretagarbon-4/2026-12-08/
LOCATION:Konferensrum Skeppet\, Axel Johanssons gata 3\, Uppsala\, 75449
ORGANIZER;CN="Livets Ord":MAILTO:info@livetsord.se
END:VEVENT
BEGIN:VEVENT
DTSTART;TZID=Europe/Stockholm:20261222T063000
DTEND;TZID=Europe/Stockholm:20261222T074500
DTSTAMP:20260422T004129
CREATED:20260126T082727Z
LAST-MODIFIED:20260126T082727Z
UID:31506-1797921000-1797925500@www.livetsord.se
SUMMARY:Företagarbön
DESCRIPTION:Varannan tisdag (jämna veckor) kl. 06.30-07.45 i konferensrum Skeppet är du som företagare varmt välkommen på bön!
URL:https://www.livetsord.se/event/foretagarbon-4/2026-12-22/
LOCATION:Konferensrum Skeppet\, Axel Johanssons gata 3\, Uppsala\, 75449
ORGANIZER;CN="Livets Ord":MAILTO:info@livetsord.se
END:VEVENT
END:VCALENDAR