BEGIN:VCALENDAR
VERSION:2.0
PRODID:-//Livets Ord - ECPv6.15.20//NONSGML v1.0//EN
CALSCALE:GREGORIAN
METHOD:PUBLISH
X-WR-CALNAME:Livets Ord
X-ORIGINAL-URL:https://www.livetsord.se
X-WR-CALDESC:Händelser för Livets Ord
REFRESH-INTERVAL;VALUE=DURATION:PT1H
X-Robots-Tag:noindex
X-PUBLISHED-TTL:PT1H
BEGIN:VTIMEZONE
TZID:Europe/Stockholm
BEGIN:DAYLIGHT
TZOFFSETFROM:+0100
TZOFFSETTO:+0200
TZNAME:CEST
DTSTART:20250330T010000
END:DAYLIGHT
BEGIN:STANDARD
TZOFFSETFROM:+0200
TZOFFSETTO:+0100
TZNAME:CET
DTSTART:20251026T010000
END:STANDARD
BEGIN:DAYLIGHT
TZOFFSETFROM:+0100
TZOFFSETTO:+0200
TZNAME:CEST
DTSTART:20260329T010000
END:DAYLIGHT
BEGIN:STANDARD
TZOFFSETFROM:+0200
TZOFFSETTO:+0100
TZNAME:CET
DTSTART:20261025T010000
END:STANDARD
BEGIN:DAYLIGHT
TZOFFSETFROM:+0100
TZOFFSETTO:+0200
TZNAME:CEST
DTSTART:20270328T010000
END:DAYLIGHT
BEGIN:STANDARD
TZOFFSETFROM:+0200
TZOFFSETTO:+0100
TZNAME:CET
DTSTART:20271031T010000
END:STANDARD
END:VTIMEZONE
BEGIN:VEVENT
DTSTART;TZID=Europe/Stockholm:20260424T210000
DTEND;TZID=Europe/Stockholm:20260424T235900
DTSTAMP:20260421T192730
CREATED:20260116T120739Z
LAST-MODIFIED:20260126T081710Z
UID:30498-1777064400-1777075140@www.livetsord.se
SUMMARY:Street Mission
DESCRIPTION:Street Mission – Fikabord vid Resecentrum \nSamling utanför Resecentrum/Centralstationen kl. 21.00. Varmt välkommen! \nFör uppdaterad information om dessa tillfällen\, gå med i DENNA WhatsApp-grupp!
URL:https://www.livetsord.se/event/street-mission/2026-04-24/
LOCATION:Livets Ord\, Axel Johanssons gata 3\, Uppsala\, 75450\, Sweden
ORGANIZER;CN="Livets Ord":MAILTO:info@livetsord.se
END:VEVENT
BEGIN:VEVENT
DTSTART;TZID=Europe/Stockholm:20260426T105000
DTEND;TZID=Europe/Stockholm:20260426T123000
DTSTAMP:20260421T192730
CREATED:20250729T092520Z
LAST-MODIFIED:20260122T154955Z
UID:27774-1777200600-1777206600@www.livetsord.se
SUMMARY:Söndax
DESCRIPTION:Söndax finns varje vecka för barn upp till 12 år!Kom till entrén innan gudstjänsten börjar\, så hjälper vi dig hitta rätt.Följ gärna @livetsordkids på Instagram för att enkelt hålla dig uppdaterad om allt som händer!
URL:https://www.livetsord.se/event/sondax-2/2026-04-26/
LOCATION:Livets Ord\, Axel Johanssons gata 3\, Uppsala\, 75450\, Sweden
ORGANIZER;CN="Livets Ord":MAILTO:info@livetsord.se
END:VEVENT
BEGIN:VEVENT
DTSTART;TZID=Europe/Stockholm:20260426T110000
DTEND;TZID=Europe/Stockholm:20260426T123000
DTSTAMP:20260421T192730
CREATED:20251117T090114Z
LAST-MODIFIED:20260119T090705Z
UID:29224-1777201200-1777206600@www.livetsord.se
SUMMARY:Gudstjänst | David Ekerbring
DESCRIPTION:Söndagar är veckans höjdpunkt hos oss. Varmt välkommen att ansluta kl. 11! Kan du inte vara med på plats? Joina oss via vår YouTube-kanal Livets Ord eller på länken HÄR!
URL:https://www.livetsord.se/event/gudstjanst-3-2026-04-26/
LOCATION:Livets Ord\, Axel Johanssons gata 3\, Uppsala\, 75450\, Sweden
ORGANIZER;CN="Livets Ord":MAILTO:info@livetsord.se
END:VEVENT
BEGIN:VEVENT
DTSTART;TZID=Europe/Stockholm:20260430T170000
DTEND;TZID=Europe/Stockholm:20260430T180000
DTSTAMP:20260421T192730
CREATED:20260331T110716Z
LAST-MODIFIED:20260331T110716Z
UID:32151-1777568400-1777572000@www.livetsord.se
SUMMARY:Bön för Valborg
DESCRIPTION:Varmt välkommen att vara med och be på valborgsmässoafton på Livets Ord. Därefter finns möjlighet att följa med ner på stan för att på olika sätt möta vår stad – antingen genom Street Mission kl. 18.00 eller nattvandring kl. 19.00.
URL:https://www.livetsord.se/event/bon-for-valborg/
LOCATION:Livets Ord\, Axel Johanssons gata 3\, Uppsala\, 75450\, Sweden
ORGANIZER;CN="Livets Ord":MAILTO:info@livetsord.se
END:VEVENT
BEGIN:VEVENT
DTSTART;TZID=Europe/Stockholm:20260501T210000
DTEND;TZID=Europe/Stockholm:20260501T235900
DTSTAMP:20260421T192730
CREATED:20260116T120739Z
LAST-MODIFIED:20260126T081710Z
UID:30499-1777669200-1777679940@www.livetsord.se
SUMMARY:Street Mission
DESCRIPTION:Street Mission – Fikabord vid Resecentrum \nSamling utanför Resecentrum/Centralstationen kl. 21.00. Varmt välkommen! \nFör uppdaterad information om dessa tillfällen\, gå med i DENNA WhatsApp-grupp!
URL:https://www.livetsord.se/event/street-mission/2026-05-01/
LOCATION:Livets Ord\, Axel Johanssons gata 3\, Uppsala\, 75450\, Sweden
ORGANIZER;CN="Livets Ord":MAILTO:info@livetsord.se
END:VEVENT
BEGIN:VEVENT
DTSTART;TZID=Europe/Stockholm:20260503T105000
DTEND;TZID=Europe/Stockholm:20260503T123000
DTSTAMP:20260421T192730
CREATED:20250729T092520Z
LAST-MODIFIED:20260122T154956Z
UID:27775-1777805400-1777811400@www.livetsord.se
SUMMARY:Söndax
DESCRIPTION:Söndax finns varje vecka för barn upp till 12 år!Kom till entrén innan gudstjänsten börjar\, så hjälper vi dig hitta rätt.Följ gärna @livetsordkids på Instagram för att enkelt hålla dig uppdaterad om allt som händer!
URL:https://www.livetsord.se/event/sondax-2/2026-05-03/
LOCATION:Livets Ord\, Axel Johanssons gata 3\, Uppsala\, 75450\, Sweden
ORGANIZER;CN="Livets Ord":MAILTO:info@livetsord.se
END:VEVENT
BEGIN:VEVENT
DTSTART;TZID=Europe/Stockholm:20260503T110000
DTEND;TZID=Europe/Stockholm:20260503T123000
DTSTAMP:20260421T192730
CREATED:20251117T090114Z
LAST-MODIFIED:20260119T090757Z
UID:29225-1777806000-1777811400@www.livetsord.se
SUMMARY:Gudstjänst | Mats-Ola Ishoel
DESCRIPTION:Söndagar är veckans höjdpunkt hos oss. Varmt välkommen att ansluta kl. 11! Kan du inte vara med på plats? Joina oss via vår YouTube-kanal Livets Ord eller på länken HÄR!
URL:https://www.livetsord.se/event/gudstjanst-3-2026-05-03/
LOCATION:Livets Ord\, Axel Johanssons gata 3\, Uppsala\, 75450\, Sweden
ORGANIZER;CN="Livets Ord":MAILTO:info@livetsord.se
END:VEVENT
BEGIN:VEVENT
DTSTART;TZID=Europe/Stockholm:20260508T210000
DTEND;TZID=Europe/Stockholm:20260508T235900
DTSTAMP:20260421T192730
CREATED:20260116T120739Z
LAST-MODIFIED:20260126T081714Z
UID:30500-1778274000-1778284740@www.livetsord.se
SUMMARY:Street Mission
DESCRIPTION:Street Mission – Fikabord vid Resecentrum \nSamling utanför Resecentrum/Centralstationen kl. 21.00. Varmt välkommen! \nFör uppdaterad information om dessa tillfällen\, gå med i DENNA WhatsApp-grupp!
URL:https://www.livetsord.se/event/street-mission/2026-05-08/
LOCATION:Livets Ord\, Axel Johanssons gata 3\, Uppsala\, 75450\, Sweden
ORGANIZER;CN="Livets Ord":MAILTO:info@livetsord.se
END:VEVENT
BEGIN:VEVENT
DTSTART;TZID=Europe/Stockholm:20260510T105000
DTEND;TZID=Europe/Stockholm:20260510T123000
DTSTAMP:20260421T192730
CREATED:20250729T092520Z
LAST-MODIFIED:20260122T154956Z
UID:27776-1778410200-1778416200@www.livetsord.se
SUMMARY:Söndax
DESCRIPTION:Söndax finns varje vecka för barn upp till 12 år!Kom till entrén innan gudstjänsten börjar\, så hjälper vi dig hitta rätt.Följ gärna @livetsordkids på Instagram för att enkelt hålla dig uppdaterad om allt som händer!
URL:https://www.livetsord.se/event/sondax-2/2026-05-10/
LOCATION:Livets Ord\, Axel Johanssons gata 3\, Uppsala\, 75450\, Sweden
ORGANIZER;CN="Livets Ord":MAILTO:info@livetsord.se
END:VEVENT
BEGIN:VEVENT
DTSTART;TZID=Europe/Stockholm:20260510T110000
DTEND;TZID=Europe/Stockholm:20260510T123000
DTSTAMP:20260421T192730
CREATED:20251117T090114Z
LAST-MODIFIED:20260119T090843Z
UID:29226-1778410800-1778416200@www.livetsord.se
SUMMARY:Gudstjänst | David Ekerbring
DESCRIPTION:Söndagar är veckans höjdpunkt hos oss. Varmt välkommen att ansluta kl. 11! Kan du inte vara med på plats? Joina oss via vår YouTube-kanal Livets Ord eller på länken HÄR!
URL:https://www.livetsord.se/event/gudstjanst-3-2026-05-10/
LOCATION:Livets Ord\, Axel Johanssons gata 3\, Uppsala\, 75450\, Sweden
ORGANIZER;CN="Livets Ord":MAILTO:info@livetsord.se
END:VEVENT
BEGIN:VEVENT
DTSTART;TZID=Europe/Stockholm:20260515T210000
DTEND;TZID=Europe/Stockholm:20260515T235900
DTSTAMP:20260421T192730
CREATED:20260116T120739Z
LAST-MODIFIED:20260126T081714Z
UID:30501-1778878800-1778889540@www.livetsord.se
SUMMARY:Street Mission
DESCRIPTION:Street Mission – Fikabord vid Resecentrum \nSamling utanför Resecentrum/Centralstationen kl. 21.00. Varmt välkommen! \nFör uppdaterad information om dessa tillfällen\, gå med i DENNA WhatsApp-grupp!
URL:https://www.livetsord.se/event/street-mission/2026-05-15/
LOCATION:Livets Ord\, Axel Johanssons gata 3\, Uppsala\, 75450\, Sweden
ORGANIZER;CN="Livets Ord":MAILTO:info@livetsord.se
END:VEVENT
BEGIN:VEVENT
DTSTART;TZID=Europe/Stockholm:20260516T210000
DTEND;TZID=Europe/Stockholm:20260516T235900
DTSTAMP:20260421T192730
CREATED:20260116T120739Z
LAST-MODIFIED:20260116T120739Z
UID:31480-1778965200-1778975940@www.livetsord.se
SUMMARY:Street Mission
DESCRIPTION:Street Mission – Fikabord vid Resecentrum \nSamling utanför Resecentrum/Centralstationen kl. 21.00. Varmt välkommen! \nFör uppdaterad information om dessa tillfällen\, gå med i DENNA WhatsApp-grupp!
URL:https://www.livetsord.se/event/street-mission/2026-05-16/
LOCATION:Livets Ord\, Axel Johanssons gata 3\, Uppsala\, 75450\, Sweden
ORGANIZER;CN="Livets Ord":MAILTO:info@livetsord.se
END:VEVENT
BEGIN:VEVENT
DTSTART;TZID=Europe/Stockholm:20260517T105000
DTEND;TZID=Europe/Stockholm:20260517T123000
DTSTAMP:20260421T192730
CREATED:20250729T092520Z
LAST-MODIFIED:20260122T154956Z
UID:27777-1779015000-1779021000@www.livetsord.se
SUMMARY:Söndax
DESCRIPTION:Söndax finns varje vecka för barn upp till 12 år!Kom till entrén innan gudstjänsten börjar\, så hjälper vi dig hitta rätt.Följ gärna @livetsordkids på Instagram för att enkelt hålla dig uppdaterad om allt som händer!
URL:https://www.livetsord.se/event/sondax-2/2026-05-17/
LOCATION:Livets Ord\, Axel Johanssons gata 3\, Uppsala\, 75450\, Sweden
ORGANIZER;CN="Livets Ord":MAILTO:info@livetsord.se
END:VEVENT
BEGIN:VEVENT
DTSTART;TZID=Europe/Stockholm:20260517T110000
DTEND;TZID=Europe/Stockholm:20260517T123000
DTSTAMP:20260421T192730
CREATED:20251117T090114Z
LAST-MODIFIED:20260119T090927Z
UID:29227-1779015600-1779021000@www.livetsord.se
SUMMARY:Gudstjänst | Christian Åkerhielm
DESCRIPTION:Söndagar är veckans höjdpunkt hos oss. Varmt välkommen att ansluta kl. 11! Kan du inte vara med på plats? Joina oss via vår YouTube-kanal Livets Ord eller på länken HÄR!
URL:https://www.livetsord.se/event/gudstjanst-3-2026-05-17/
LOCATION:Livets Ord\, Axel Johanssons gata 3\, Uppsala\, 75450\, Sweden
ORGANIZER;CN="Livets Ord":MAILTO:info@livetsord.se
END:VEVENT
BEGIN:VEVENT
DTSTART;TZID=Europe/Stockholm:20260522T210000
DTEND;TZID=Europe/Stockholm:20260522T235900
DTSTAMP:20260421T192730
CREATED:20260116T120739Z
LAST-MODIFIED:20260126T081714Z
UID:30502-1779483600-1779494340@www.livetsord.se
SUMMARY:Street Mission
DESCRIPTION:Street Mission – Fikabord vid Resecentrum \nSamling utanför Resecentrum/Centralstationen kl. 21.00. Varmt välkommen! \nFör uppdaterad information om dessa tillfällen\, gå med i DENNA WhatsApp-grupp!
URL:https://www.livetsord.se/event/street-mission/2026-05-22/
LOCATION:Livets Ord\, Axel Johanssons gata 3\, Uppsala\, 75450\, Sweden
ORGANIZER;CN="Livets Ord":MAILTO:info@livetsord.se
END:VEVENT
BEGIN:VEVENT
DTSTART;TZID=Europe/Stockholm:20260524T105000
DTEND;TZID=Europe/Stockholm:20260524T123000
DTSTAMP:20260421T192730
CREATED:20250729T092520Z
LAST-MODIFIED:20260122T154956Z
UID:27778-1779619800-1779625800@www.livetsord.se
SUMMARY:Söndax
DESCRIPTION:Söndax finns varje vecka för barn upp till 12 år!Kom till entrén innan gudstjänsten börjar\, så hjälper vi dig hitta rätt.Följ gärna @livetsordkids på Instagram för att enkelt hålla dig uppdaterad om allt som händer!
URL:https://www.livetsord.se/event/sondax-2/2026-05-24/
LOCATION:Livets Ord\, Axel Johanssons gata 3\, Uppsala\, 75450\, Sweden
ORGANIZER;CN="Livets Ord":MAILTO:info@livetsord.se
END:VEVENT
BEGIN:VEVENT
DTSTART;TZID=Europe/Stockholm:20260529T080000
DTEND;TZID=Europe/Stockholm:20260529T150000
DTSTAMP:20260421T192730
CREATED:20260212T084610Z
LAST-MODIFIED:20260212T084610Z
UID:31666-1780041600-1780066800@www.livetsord.se
SUMMARY:LOBC Graduation
DESCRIPTION:
URL:https://www.livetsord.se/event/lobc-graduation-2/
LOCATION:Livets Ord\, Axel Johanssons gata 3\, Uppsala\, 75450\, Sweden
ORGANIZER;CN="Livets Ord":MAILTO:info@livetsord.se
END:VEVENT
BEGIN:VEVENT
DTSTART;TZID=Europe/Stockholm:20260529T210000
DTEND;TZID=Europe/Stockholm:20260529T235900
DTSTAMP:20260421T192730
CREATED:20260116T120739Z
LAST-MODIFIED:20260126T081714Z
UID:30503-1780088400-1780099140@www.livetsord.se
SUMMARY:Street Mission
DESCRIPTION:Street Mission – Fikabord vid Resecentrum \nSamling utanför Resecentrum/Centralstationen kl. 21.00. Varmt välkommen! \nFör uppdaterad information om dessa tillfällen\, gå med i DENNA WhatsApp-grupp!
URL:https://www.livetsord.se/event/street-mission/2026-05-29/
LOCATION:Livets Ord\, Axel Johanssons gata 3\, Uppsala\, 75450\, Sweden
ORGANIZER;CN="Livets Ord":MAILTO:info@livetsord.se
END:VEVENT
BEGIN:VEVENT
DTSTART;TZID=Europe/Stockholm:20260531T105000
DTEND;TZID=Europe/Stockholm:20260531T123000
DTSTAMP:20260421T192730
CREATED:20250729T092520Z
LAST-MODIFIED:20260122T154956Z
UID:27779-1780224600-1780230600@www.livetsord.se
SUMMARY:Söndax
DESCRIPTION:Söndax finns varje vecka för barn upp till 12 år!Kom till entrén innan gudstjänsten börjar\, så hjälper vi dig hitta rätt.Följ gärna @livetsordkids på Instagram för att enkelt hålla dig uppdaterad om allt som händer!
URL:https://www.livetsord.se/event/sondax-2/2026-05-31/
LOCATION:Livets Ord\, Axel Johanssons gata 3\, Uppsala\, 75450\, Sweden
ORGANIZER;CN="Livets Ord":MAILTO:info@livetsord.se
END:VEVENT
BEGIN:VEVENT
DTSTART;TZID=Europe/Stockholm:20260531T110000
DTEND;TZID=Europe/Stockholm:20260531T123000
DTSTAMP:20260421T192730
CREATED:20251117T090114Z
LAST-MODIFIED:20260119T091107Z
UID:29238-1780225200-1780230600@www.livetsord.se
SUMMARY:Gudstjänst | David Ekerbring
DESCRIPTION:Söndagar är veckans höjdpunkt hos oss. Varmt välkommen att ansluta kl. 11! Kan du inte vara med på plats? Joina oss via vår YouTube-kanal Livets Ord eller på länken HÄR!
URL:https://www.livetsord.se/event/gudstjanst-3-2026-05-31/
LOCATION:Livets Ord\, Axel Johanssons gata 3\, Uppsala\, 75450\, Sweden
ORGANIZER;CN="Livets Ord":MAILTO:info@livetsord.se
END:VEVENT
BEGIN:VEVENT
DTSTART;TZID=Europe/Stockholm:20260605T210000
DTEND;TZID=Europe/Stockholm:20260605T235900
DTSTAMP:20260421T192730
CREATED:20260116T120739Z
LAST-MODIFIED:20260126T081714Z
UID:30504-1780693200-1780703940@www.livetsord.se
SUMMARY:Street Mission
DESCRIPTION:Street Mission – Fikabord vid Resecentrum \nSamling utanför Resecentrum/Centralstationen kl. 21.00. Varmt välkommen! \nFör uppdaterad information om dessa tillfällen\, gå med i DENNA WhatsApp-grupp!
URL:https://www.livetsord.se/event/street-mission/2026-06-05/
LOCATION:Livets Ord\, Axel Johanssons gata 3\, Uppsala\, 75450\, Sweden
ORGANIZER;CN="Livets Ord":MAILTO:info@livetsord.se
END:VEVENT
BEGIN:VEVENT
DTSTART;TZID=Europe/Stockholm:20260607T105000
DTEND;TZID=Europe/Stockholm:20260607T123000
DTSTAMP:20260421T192730
CREATED:20250729T092520Z
LAST-MODIFIED:20260212T090316Z
UID:27780-1780829400-1780835400@www.livetsord.se
SUMMARY:Söndax Sommaravslutning
DESCRIPTION:Söndax finns vanligtvis varje vecka för barn upp till 12 år på terminen! Denna vecka är det sommaravslutning!Kom till entrén innan gudstjänsten börjar\, så hjälper vi dig hitta rätt.Följ gärna @livetsordkids på Instagram för att enkelt hålla dig uppdaterad om allt som händer!
URL:https://www.livetsord.se/event/sondax-2-2026-06-07/
LOCATION:Livets Ord\, Axel Johanssons gata 3\, Uppsala\, 75450\, Sweden
ORGANIZER;CN="Livets Ord":MAILTO:info@livetsord.se
END:VEVENT
BEGIN:VEVENT
DTSTART;TZID=Europe/Stockholm:20260607T110000
DTEND;TZID=Europe/Stockholm:20260607T123000
DTSTAMP:20260421T192730
CREATED:20251117T090114Z
LAST-MODIFIED:20260212T090037Z
UID:29239-1780830000-1780835400@www.livetsord.se
SUMMARY:Gudstjänst | Tom Stigson
DESCRIPTION:Söndagar är veckans höjdpunkt hos oss. Varmt välkommen att ansluta kl. 11! Kan du inte vara med på plats? Joina oss via vår YouTube-kanal Livets Ord eller på länken HÄR!
URL:https://www.livetsord.se/event/gudstjanst-3-2026-06-07/
LOCATION:Livets Ord\, Axel Johanssons gata 3\, Uppsala\, 75450\, Sweden
ORGANIZER;CN="Livets Ord":MAILTO:info@livetsord.se
END:VEVENT
BEGIN:VEVENT
DTSTART;TZID=Europe/Stockholm:20260613T210000
DTEND;TZID=Europe/Stockholm:20260613T235900
DTSTAMP:20260421T192730
CREATED:20260116T120739Z
LAST-MODIFIED:20260116T120739Z
UID:31481-1781384400-1781395140@www.livetsord.se
SUMMARY:Street Mission
DESCRIPTION:Street Mission – Fikabord vid Resecentrum \nSamling utanför Resecentrum/Centralstationen kl. 21.00. Varmt välkommen! \nFör uppdaterad information om dessa tillfällen\, gå med i DENNA WhatsApp-grupp!
URL:https://www.livetsord.se/event/street-mission/2026-06-13/
LOCATION:Livets Ord\, Axel Johanssons gata 3\, Uppsala\, 75450\, Sweden
ORGANIZER;CN="Livets Ord":MAILTO:info@livetsord.se
END:VEVENT
BEGIN:VEVENT
DTSTART;TZID=Europe/Stockholm:20260614T110000
DTEND;TZID=Europe/Stockholm:20260614T123000
DTSTAMP:20260421T192730
CREATED:20251117T090114Z
LAST-MODIFIED:20260119T091156Z
UID:29240-1781434800-1781440200@www.livetsord.se
SUMMARY:Gudstjänst | David Ekerbring
DESCRIPTION:Söndagar är veckans höjdpunkt hos oss. Varmt välkommen att ansluta kl. 11! Kan du inte vara med på plats? Joina oss via vår YouTube-kanal Livets Ord eller på länken HÄR!
URL:https://www.livetsord.se/event/gudstjanst-3-2026-06-14/
LOCATION:Livets Ord\, Axel Johanssons gata 3\, Uppsala\, 75450\, Sweden
ORGANIZER;CN="Livets Ord":MAILTO:info@livetsord.se
END:VEVENT
BEGIN:VEVENT
DTSTART;TZID=Europe/Stockholm:20260621T110000
DTEND;TZID=Europe/Stockholm:20260621T123000
DTSTAMP:20260421T192730
CREATED:20251117T090114Z
LAST-MODIFIED:20260311T074745Z
UID:29241-1782039600-1782045000@www.livetsord.se
SUMMARY:Gudstjänst
DESCRIPTION:Söndagar är veckans höjdpunkt hos oss. Varmt välkommen att ansluta kl. 11! Kan du inte vara med på plats? Joina oss via vår YouTube-kanal Livets Ord eller på länken HÄR!
URL:https://www.livetsord.se/event/gudstjanst-3-2026-06-21/2026-06-21/
LOCATION:Livets Ord\, Axel Johanssons gata 3\, Uppsala\, 75450\, Sweden
ORGANIZER;CN="Livets Ord":MAILTO:info@livetsord.se
END:VEVENT
BEGIN:VEVENT
DTSTART;TZID=Europe/Stockholm:20260728T080000
DTEND;TZID=Europe/Stockholm:20260802T150000
DTSTAMP:20260421T192730
CREATED:20260212T085010Z
LAST-MODIFIED:20260212T085010Z
UID:31668-1785225600-1785682800@www.livetsord.se
SUMMARY:EUROPE CONFERENCE 2026
DESCRIPTION:Welcome to Uppsala\, July 28 – August 2 this summer! Europe Conference is going to be something truly special\, and we’re convinced that God has something just for you during these days. Read more about the conference at europakonferensen.livetsord.se.
URL:https://www.livetsord.se/event/europe-conference-2026/
LOCATION:Livets Ord\, Axel Johanssons gata 3\, Uppsala\, 75450\, Sweden
ORGANIZER;CN="Livets Ord":MAILTO:info@livetsord.se
END:VEVENT
BEGIN:VEVENT
DTSTART;TZID=Europe/Stockholm:20261028T190000
DTEND;TZID=Europe/Stockholm:20261101T150000
DTSTAMP:20260421T192730
CREATED:20260212T093351Z
LAST-MODIFIED:20260212T093351Z
UID:31677-1793214000-1793545200@www.livetsord.se
SUMMARY:Youth Conference 2026
DESCRIPTION:From October 28 to November 1\, you’re warmly invited to Uppsala! Four days filled with more of God\, great activities\, hangouts\, and loads of youth from all over Sweden and Europe. We’re excited to welcome you to Youth Conference 2026!
URL:https://www.livetsord.se/event/youth-conference-2026/
LOCATION:Livets Ord\, Axel Johanssons gata 3\, Uppsala\, 75450\, Sweden
ORGANIZER;CN="Livets Ord":MAILTO:info@livetsord.se
END:VEVENT
END:VCALENDAR