BEGIN:VCALENDAR
VERSION:2.0
PRODID:-//Livets Ord - ECPv6.15.20//NONSGML v1.0//EN
CALSCALE:GREGORIAN
METHOD:PUBLISH
X-WR-CALNAME:Livets Ord
X-ORIGINAL-URL:https://www.livetsord.se
X-WR-CALDESC:Händelser för Livets Ord
REFRESH-INTERVAL;VALUE=DURATION:PT1H
X-Robots-Tag:noindex
X-PUBLISHED-TTL:PT1H
BEGIN:VTIMEZONE
TZID:Europe/Stockholm
BEGIN:DAYLIGHT
TZOFFSETFROM:+0100
TZOFFSETTO:+0200
TZNAME:CEST
DTSTART:20250330T010000
END:DAYLIGHT
BEGIN:STANDARD
TZOFFSETFROM:+0200
TZOFFSETTO:+0100
TZNAME:CET
DTSTART:20251026T010000
END:STANDARD
BEGIN:DAYLIGHT
TZOFFSETFROM:+0100
TZOFFSETTO:+0200
TZNAME:CEST
DTSTART:20260329T010000
END:DAYLIGHT
BEGIN:STANDARD
TZOFFSETFROM:+0200
TZOFFSETTO:+0100
TZNAME:CET
DTSTART:20261025T010000
END:STANDARD
BEGIN:DAYLIGHT
TZOFFSETFROM:+0100
TZOFFSETTO:+0200
TZNAME:CEST
DTSTART:20270328T010000
END:DAYLIGHT
BEGIN:STANDARD
TZOFFSETFROM:+0200
TZOFFSETTO:+0100
TZNAME:CET
DTSTART:20271031T010000
END:STANDARD
END:VTIMEZONE
BEGIN:VEVENT
DTSTART;TZID=Europe/Stockholm:20260509T100000
DTEND;TZID=Europe/Stockholm:20260509T120000
DTSTAMP:20260421T181250
CREATED:20260331T070414Z
LAST-MODIFIED:20260331T070414Z
UID:32128-1778320800-1778328000@www.livetsord.se
SUMMARY:Hennes Frukost
DESCRIPTION:Varmt välkommen på Hennes Frukost lör 9 maj kl. 10.00! Snart finns anmälan tillgänglig i CC. \nDu kommer få lyssna till Hilde som gått från kyrkans barntimmar till ett brinnande socialt engagemang. \nHon lever med ett öppet hem för både egna och andras barn\, en entreprenör i socialt arbete. 2021 blev hon Årets Uppsalabo!
URL:https://www.livetsord.se/event/hennes-frukost/
LOCATION:Orangeriet\, Axel Johanssons gata 3\, Uppsala\, Sweden
ORGANIZER;CN="Livets Ord":MAILTO:info@livetsord.se
END:VEVENT
BEGIN:VEVENT
DTSTART;TZID=Europe/Stockholm:20260510T110000
DTEND;TZID=Europe/Stockholm:20260510T130000
DTSTAMP:20260421T181250
CREATED:20260107T100253Z
LAST-MODIFIED:20260119T073535Z
UID:30048-1778410800-1778418000@www.livetsord.se
SUMMARY:UNIK Söndax
DESCRIPTION:UNIK Söndax – för barn och ungdomar med funktionsvariationer. \nVi möts i Orangeriet kl. 11.20 för bibelsamling\, fika och härlig gemenskap. \nHar du frågor? Hör gärna av dig till diakoni@livetsord.se. \nVarmt välkommen! Mer info hittar du HÄR!
URL:https://www.livetsord.se/event/unik-sondax-3/2026-05-10/
LOCATION:Orangeriet\, Axel Johanssons gata 3\, Uppsala\, Sweden
ORGANIZER;CN="Livets Ord":MAILTO:info@livetsord.se
END:VEVENT
BEGIN:VEVENT
DTSTART;TZID=Europe/Stockholm:20260607T110000
DTEND;TZID=Europe/Stockholm:20260607T130000
DTSTAMP:20260421T181250
CREATED:20260107T100253Z
LAST-MODIFIED:20260119T073535Z
UID:30049-1780830000-1780837200@www.livetsord.se
SUMMARY:UNIK Söndax
DESCRIPTION:UNIK Söndax – för barn och ungdomar med funktionsvariationer. \nVi möts i Orangeriet kl. 11.20 för bibelsamling\, fika och härlig gemenskap. \nHar du frågor? Hör gärna av dig till diakoni@livetsord.se. \nVarmt välkommen! Mer info hittar du HÄR!
URL:https://www.livetsord.se/event/unik-sondax-3/2026-06-07/
LOCATION:Orangeriet\, Axel Johanssons gata 3\, Uppsala\, Sweden
ORGANIZER;CN="Livets Ord":MAILTO:info@livetsord.se
END:VEVENT
END:VCALENDAR