BEGIN:VCALENDAR
VERSION:2.0
PRODID:-//Livets Ord - ECPv6.15.20//NONSGML v1.0//EN
CALSCALE:GREGORIAN
METHOD:PUBLISH
X-WR-CALNAME:Livets Ord
X-ORIGINAL-URL:https://www.livetsord.se
X-WR-CALDESC:Events for Livets Ord
REFRESH-INTERVAL;VALUE=DURATION:PT1H
X-Robots-Tag:noindex
X-PUBLISHED-TTL:PT1H
BEGIN:VTIMEZONE
TZID:Europe/Stockholm
BEGIN:DAYLIGHT
TZOFFSETFROM:+0100
TZOFFSETTO:+0200
TZNAME:CEST
DTSTART:20240331T010000
END:DAYLIGHT
BEGIN:STANDARD
TZOFFSETFROM:+0200
TZOFFSETTO:+0100
TZNAME:CET
DTSTART:20241027T010000
END:STANDARD
BEGIN:DAYLIGHT
TZOFFSETFROM:+0100
TZOFFSETTO:+0200
TZNAME:CEST
DTSTART:20250330T010000
END:DAYLIGHT
BEGIN:STANDARD
TZOFFSETFROM:+0200
TZOFFSETTO:+0100
TZNAME:CET
DTSTART:20251026T010000
END:STANDARD
BEGIN:DAYLIGHT
TZOFFSETFROM:+0100
TZOFFSETTO:+0200
TZNAME:CEST
DTSTART:20260329T010000
END:DAYLIGHT
BEGIN:STANDARD
TZOFFSETFROM:+0200
TZOFFSETTO:+0100
TZNAME:CET
DTSTART:20261025T010000
END:STANDARD
END:VTIMEZONE
BEGIN:VEVENT
DTSTART;TZID=Europe/Stockholm:20250703T180000
DTEND;TZID=Europe/Stockholm:20250703T193000
DTSTAMP:20260422T130628
CREATED:20250502T115131Z
LAST-MODIFIED:20260113T112716Z
UID:25190-1751565600-1751571000@www.livetsord.se
SUMMARY:Street Mission - Follow me
DESCRIPTION:
URL:https://www.livetsord.se/en/event/street-mission-follow-me/2025-07-03/
END:VEVENT
BEGIN:VEVENT
DTSTART;TZID=Europe/Stockholm:20250704T180000
DTEND;TZID=Europe/Stockholm:20250704T180000
DTSTAMP:20260422T130628
CREATED:20250502T115537Z
LAST-MODIFIED:20250502T115643Z
UID:25451-1751652000-1751652000@www.livetsord.se
SUMMARY:JG
DESCRIPTION:
URL:https://www.livetsord.se/en/event/jg/2025-07-04/
END:VEVENT
BEGIN:VEVENT
DTSTART;TZID=Europe/Stockholm:20250710T180000
DTEND;TZID=Europe/Stockholm:20250710T193000
DTSTAMP:20260422T130628
CREATED:20250502T115131Z
LAST-MODIFIED:20260113T112716Z
UID:25191-1752170400-1752175800@www.livetsord.se
SUMMARY:Street Mission - Follow me
DESCRIPTION:
URL:https://www.livetsord.se/en/event/street-mission-follow-me/2025-07-10/
END:VEVENT
BEGIN:VEVENT
DTSTART;TZID=Europe/Stockholm:20250711T180000
DTEND;TZID=Europe/Stockholm:20250711T180000
DTSTAMP:20260422T130628
CREATED:20250502T115537Z
LAST-MODIFIED:20250502T115643Z
UID:25452-1752256800-1752256800@www.livetsord.se
SUMMARY:JG
DESCRIPTION:
URL:https://www.livetsord.se/en/event/jg/2025-07-11/
END:VEVENT
BEGIN:VEVENT
DTSTART;TZID=Europe/Stockholm:20250717T180000
DTEND;TZID=Europe/Stockholm:20250717T193000
DTSTAMP:20260422T130628
CREATED:20250502T115131Z
LAST-MODIFIED:20260113T112720Z
UID:25192-1752775200-1752780600@www.livetsord.se
SUMMARY:Street Mission - Follow me
DESCRIPTION:
URL:https://www.livetsord.se/en/event/street-mission-follow-me/2025-07-17/
END:VEVENT
BEGIN:VEVENT
DTSTART;TZID=Europe/Stockholm:20250718T180000
DTEND;TZID=Europe/Stockholm:20250718T180000
DTSTAMP:20260422T130628
CREATED:20250502T115537Z
LAST-MODIFIED:20250502T115647Z
UID:25454-1752861600-1752861600@www.livetsord.se
SUMMARY:JG
DESCRIPTION:
URL:https://www.livetsord.se/en/event/jg/2025-07-18/
END:VEVENT
BEGIN:VEVENT
DTSTART;TZID=Europe/Stockholm:20250724T180000
DTEND;TZID=Europe/Stockholm:20250724T193000
DTSTAMP:20260422T130628
CREATED:20250502T115131Z
LAST-MODIFIED:20260113T112720Z
UID:25193-1753380000-1753385400@www.livetsord.se
SUMMARY:Street Mission - Follow me
DESCRIPTION:
URL:https://www.livetsord.se/en/event/street-mission-follow-me/2025-07-24/
END:VEVENT
BEGIN:VEVENT
DTSTART;TZID=Europe/Stockholm:20250725T180000
DTEND;TZID=Europe/Stockholm:20250725T180000
DTSTAMP:20260422T130628
CREATED:20250502T115537Z
LAST-MODIFIED:20250502T115647Z
UID:25455-1753466400-1753466400@www.livetsord.se
SUMMARY:JG
DESCRIPTION:
URL:https://www.livetsord.se/en/event/jg/2025-07-25/
END:VEVENT
BEGIN:VEVENT
DTSTART;TZID=Europe/Stockholm:20250731T180000
DTEND;TZID=Europe/Stockholm:20250731T193000
DTSTAMP:20260422T130628
CREATED:20250502T115131Z
LAST-MODIFIED:20260113T112720Z
UID:25194-1753984800-1753990200@www.livetsord.se
SUMMARY:Street Mission - Follow me
DESCRIPTION:
URL:https://www.livetsord.se/en/event/street-mission-follow-me/2025-07-31/
END:VEVENT
END:VCALENDAR