BEGIN:VCALENDAR
VERSION:2.0
PRODID:-//Livets Ord - ECPv6.15.20//NONSGML v1.0//EN
CALSCALE:GREGORIAN
METHOD:PUBLISH
X-WR-CALNAME:Livets Ord
X-ORIGINAL-URL:https://www.livetsord.se
X-WR-CALDESC:Händelser för Livets Ord
REFRESH-INTERVAL;VALUE=DURATION:PT1H
X-Robots-Tag:noindex
X-PUBLISHED-TTL:PT1H
BEGIN:VTIMEZONE
TZID:Europe/Stockholm
BEGIN:DAYLIGHT
TZOFFSETFROM:+0100
TZOFFSETTO:+0200
TZNAME:CEST
DTSTART:20250330T010000
END:DAYLIGHT
BEGIN:STANDARD
TZOFFSETFROM:+0200
TZOFFSETTO:+0100
TZNAME:CET
DTSTART:20251026T010000
END:STANDARD
BEGIN:DAYLIGHT
TZOFFSETFROM:+0100
TZOFFSETTO:+0200
TZNAME:CEST
DTSTART:20260329T010000
END:DAYLIGHT
BEGIN:STANDARD
TZOFFSETFROM:+0200
TZOFFSETTO:+0100
TZNAME:CET
DTSTART:20261025T010000
END:STANDARD
BEGIN:DAYLIGHT
TZOFFSETFROM:+0100
TZOFFSETTO:+0200
TZNAME:CEST
DTSTART:20270328T010000
END:DAYLIGHT
BEGIN:STANDARD
TZOFFSETFROM:+0200
TZOFFSETTO:+0100
TZNAME:CET
DTSTART:20271031T010000
END:STANDARD
END:VTIMEZONE
BEGIN:VEVENT
DTSTART;TZID=Europe/Stockholm:20260417T190000
DTEND;TZID=Europe/Stockholm:20260419T160000
DTSTAMP:20260424T170712
CREATED:20260331T065133Z
LAST-MODIFIED:20260331T065133Z
UID:32126-1776452400-1776614400@www.livetsord.se
SUMMARY:Tillsammans för Sverige: Bönekonferens
DESCRIPTION:Varmt välkommen till Livets Ord för bönekonferensen ”Tillsammans för Sverige”\, arrangerad av bönenätverket Tillsammans för Sverige. \nVi möts för att stå tillsammans i ödmjukhet\, enhet och bön för vårt land och för Guds församling. Bedjare från ett flertal av landets bönenätverk möter upp för att vår gemensamma bön ska stiga upp inför Herren. Vi har fortsatt allvarliga situationer att be för\, samtidigt som vi lyfter blicken och ser att Gud påbörjat något nytt i vårt land\, inte minst i den unga generationen. \nVi tror att Herren ska föra oss djupare samman i försoning\, kärlek och enhet denna helg och att en bönens Ande får verka bland oss. \nSCHEMA \nFREDAG\n19:00 | Kvällsmöte (tillsammans med Youth) \nLÖRDAG\n09:30-12:30 | Bönestaffett\n12:30-14:00  | Lunch (caféet öppet)\n14-16:30 | Program i Kyrksalen\n16:30-19 | Middagspaus\n19-21:30 | Kvällsmöte \nSÖNDAG\n09:30 – 10:30/50 | Bön i Kapellet\n11-13 |  Söndagsgudstjänst LO\n14-16 | Program i Kyrksalen \nUnder lördagen inbjuder vi präster\, pastorer och församlingsledare till gemenskap vid en salladslunch mellan 12.30 – 14.00. Föranmälan via tillsammansforsverige.se krävs.
URL:https://www.livetsord.se/event/tillsammans-for-sverige-bonekonferens/
LOCATION:Livets Ord\, Axel Johanssons gata 3\, Uppsala\, 75450\, Sweden
ORGANIZER;CN="Livets Ord":MAILTO:info@livetsord.se
END:VEVENT
BEGIN:VEVENT
DTSTART;TZID=Europe/Stockholm:20260418T210000
DTEND;TZID=Europe/Stockholm:20260418T235900
DTSTAMP:20260424T170712
CREATED:20260116T120739Z
LAST-MODIFIED:20260116T120739Z
UID:31479-1776546000-1776556740@www.livetsord.se
SUMMARY:Street Mission
DESCRIPTION:Street Mission – Fikabord vid Resecentrum \nSamling utanför Resecentrum/Centralstationen kl. 21.00. Varmt välkommen! \nFör uppdaterad information om dessa tillfällen\, gå med i DENNA WhatsApp-grupp!
URL:https://www.livetsord.se/event/street-mission/2026-04-18/
LOCATION:Livets Ord\, Axel Johanssons gata 3\, Uppsala\, 75450\, Sweden
ORGANIZER;CN="Livets Ord":MAILTO:info@livetsord.se
END:VEVENT
END:VCALENDAR